BEGIN:VCALENDAR
TZID:America/New_York
VERSION:2.0
PRODID:-//SNF Paideia Program at the University of Pennsylvania //NONSGML Events //EN
CALSCALE:GREGORIAN
X-WR-CALNAME:SNF Paideia Program at the University of Pennsylvania
BEGIN:VEVENT
SUMMARY:Campus Speech Battles – A Virtual Conference
CREATED:20200911T174701Z
UID:1465
DTSTART:20200929
DTEND:
LOCATION:Zoom
DESCRIPTION:\n\nRegister for this event online: https://www.eventbrite.com/e/campus-speech-battles-a-virtual-conference-tickets-116923933633
ORGANIZER:SNF Paideia Program at the University of Pennsylvania
URL;VALUE=URI:https://snfpaideia.upenn.edu/events/campus-speech-battles-a-virtual-conference/
TRANSP:OPAQUE
END:VEVENT
END:VCALENDAR
