BEGIN:VCALENDAR
TZID:America/New_York
VERSION:2.0
PRODID:-//SNF Paideia Program at the University of Pennsylvania //NONSGML Events //EN
CALSCALE:GREGORIAN
X-WR-CALNAME:SNF Paideia Program at the University of Pennsylvania
BEGIN:VEVENT
SUMMARY:The Economic System: Workplace Diversity, Culture, and Leadership
CREATED:20201030T132458Z
UID:1932
DTSTART:20201111T170000
DTEND:20201111T181500
LOCATION:Online
DESCRIPTION:5:00 PM - 6:15 PM\n\nRegister for this event online: https://upenn.zoom.us/webinar/register/WN_0Kec0q0JTDmCGd839aH5jw
ORGANIZER:SNF Paideia Program at the University of Pennsylvania
URL;VALUE=URI:https://snfpaideia.upenn.edu/events/the-economic-system-workplace-diversity-culture-and-leadership/
TRANSP:OPAQUE
END:VEVENT
END:VCALENDAR
