BEGIN:VCALENDAR
TZID:America/New_York
VERSION:2.0
PRODID:-//SNF Paideia Program at the University of Pennsylvania //NONSGML Events //EN
CALSCALE:GREGORIAN
X-WR-CALNAME:SNF Paideia Program at the University of Pennsylvania
BEGIN:VEVENT
SUMMARY:“Is Police Reform Possible? Police Commissioner Perspectives,” Post-event Dialogue
CREATED:20201130T153602Z
UID:2187
DTSTART:20201202T183000
DTEND:20201202T200000
LOCATION:Zoom
DESCRIPTION:6:30 PM - 8:00 PM\n\nRegister for this event online: https://www.eventbrite.com/e/is-police-reform-possible-post-event-dialogue-tickets-131050725247
ORGANIZER:SNF Paideia Program at the University of Pennsylvania
URL;VALUE=URI:https://snfpaideia.upenn.edu/events/is-police-reform-possible-police-commissioner-perspectives-post-event-dialogue/
TRANSP:OPAQUE
END:VEVENT
END:VCALENDAR
