BEGIN:VCALENDAR
TZID:America/New_York
VERSION:2.0
PRODID:-//SNF Paideia Program at the University of Pennsylvania //NONSGML Events //EN
CALSCALE:GREGORIAN
X-WR-CALNAME:SNF Paideia Program at the University of Pennsylvania
BEGIN:VEVENT
SUMMARY:Zakhor: Alex Haley’s Roots, Scriptures, and the Race for America
CREATED:20210113T183329Z
UID:2286
DTSTART:20210204T133000
DTEND:20210204T143000
LOCATION:Online
DESCRIPTION:1:30 PM - 2:30 PM\n\nRegister for this event online: https://upenn.zoom.us/webinar/register/WN_5dLH0GbOTlulE9L2MfxSog
ORGANIZER:SNF Paideia Program at the University of Pennsylvania
URL;VALUE=URI:https://snfpaideia.upenn.edu/events/zakhor-alex-haleys-roots-scriptures-and-the-race-for-america/
TRANSP:OPAQUE
END:VEVENT
END:VCALENDAR
