BEGIN:VCALENDAR
TZID:America/New_York
VERSION:2.0
PRODID:-//SNF Paideia Program at the University of Pennsylvania //NONSGML Events //EN
CALSCALE:GREGORIAN
X-WR-CALNAME:SNF Paideia Program at the University of Pennsylvania
BEGIN:VEVENT
SUMMARY:Purity Politics and the Problem of Jewish Solidarity
CREATED:20210113T213407Z
UID:2316
DTSTART:20210422T133000
DTEND:20210422T143000
LOCATION:Online
DESCRIPTION:1:30 PM - 2:30 PM\n\nRegister for this event online: https://upenn.zoom.us/meeting/register/tJYuf-itrz0qGtEiEBDpgvlr-xjQVW8YZkoI
ORGANIZER:SNF Paideia Program at the University of Pennsylvania
URL;VALUE=URI:https://snfpaideia.upenn.edu/events/purity-politics-and-the-problem-of-jewish-solidarity/
TRANSP:OPAQUE
END:VEVENT
END:VCALENDAR
