BEGIN:VCALENDAR
TZID:America/New_York
VERSION:2.0
PRODID:-//SNF Paideia Program at the University of Pennsylvania //NONSGML Events //EN
CALSCALE:GREGORIAN
X-WR-CALNAME:SNF Paideia Program at the University of Pennsylvania
BEGIN:VEVENT
SUMMARY:Career Industry and Networking Series – Public Service
CREATED:20210120T170440Z
UID:2326
DTSTART:20210210T190000
DTEND:20210210T203000
LOCATION:Online
DESCRIPTION:7:00 PM - 8:30 PM\n\nRegister for this event online: https://zoom.us/meeting/register/tJEtcOiorT8pGdSJlsGHl2GCP49ocLQRZhFA
ORGANIZER:SNF Paideia Program at the University of Pennsylvania
URL;VALUE=URI:https://snfpaideia.upenn.edu/events/career-industry-and-networking-series-public-service/
TRANSP:OPAQUE
END:VEVENT
END:VCALENDAR
