BEGIN:VCALENDAR
TZID:America/New_York
VERSION:2.0
PRODID:-//SNF Paideia Program at the University of Pennsylvania //NONSGML Events //EN
CALSCALE:GREGORIAN
X-WR-CALNAME:SNF Paideia Program at the University of Pennsylvania
BEGIN:VEVENT
SUMMARY:The Criminal Justice System: Policing and Public Safety
CREATED:20210130T001203Z
UID:2399
DTSTART:20210224T170000
DTEND:20210224T181500
LOCATION:Online
DESCRIPTION:5:00 PM - 6:15 PM\n\nRegister for this event online: https://upenn.zoom.us/webinar/register/WN_8UCB29kWRIOs2h0Bszyrpw
ORGANIZER:SNF Paideia Program at the University of Pennsylvania
URL;VALUE=URI:https://snfpaideia.upenn.edu/events/the-criminal-justice-system-policing-and-public-safety/
TRANSP:OPAQUE
END:VEVENT
END:VCALENDAR
