BEGIN:VCALENDAR
TZID:America/New_York
VERSION:2.0
PRODID:-//SNF Paideia Program at the University of Pennsylvania //NONSGML Events //EN
CALSCALE:GREGORIAN
X-WR-CALNAME:SNF Paideia Program at the University of Pennsylvania
BEGIN:VEVENT
SUMMARY:Other Ways of Knowing: At the Intersection of Neuroscience and the Mystical
CREATED:20210216T211522Z
UID:2461
DTSTART:20210303T170000
DTEND:20210303T180000
LOCATION:Online
DESCRIPTION:5:00 PM EST\n\nRegister for this event online: https://upenn.zoom.us/meeting/register/tJAtc-GgqDItG9U_iqBDFPImaRRzGKpVEANg
ORGANIZER:SNF Paideia Program at the University of Pennsylvania
URL;VALUE=URI:https://snfpaideia.upenn.edu/events/other-ways-of-knowing-at-the-intersection-of-neuroscience-and-the-mystical/
TRANSP:OPAQUE
END:VEVENT
END:VCALENDAR
