BEGIN:VCALENDAR
TZID:America/New_York
VERSION:2.0
PRODID:-//SNF Paideia Program at the University of Pennsylvania //NONSGML Events //EN
CALSCALE:GREGORIAN
X-WR-CALNAME:SNF Paideia Program at the University of Pennsylvania
BEGIN:VEVENT
SUMMARY:Conversation with Former Director of the Office of Public Affairs, Department of Justice, Sarah Isgur
CREATED:20210322T153055Z
UID:2659
DTSTART:20210409T140000
DTEND:20210409T153000
LOCATION:Online
DESCRIPTION:2:00 PM - 3:30 PM\n\nRegister for this event online: https://www.eventbrite.com/e/147616393607
ORGANIZER:SNF Paideia Program at the University of Pennsylvania
URL;VALUE=URI:https://snfpaideia.upenn.edu/events/conversation-with-former-director-of-the-office-of-public-affairs-department-of-justice-sarah-isgur/
TRANSP:OPAQUE
END:VEVENT
END:VCALENDAR
