BEGIN:VCALENDAR
TZID:America/New_York
VERSION:2.0
PRODID:-//SNF Paideia Program at the University of Pennsylvania //NONSGML Events //EN
CALSCALE:GREGORIAN
X-WR-CALNAME:SNF Paideia Program at the University of Pennsylvania
BEGIN:VEVENT
SUMMARY:Reflections: The Year of Civic Engagement
CREATED:20210423T153247Z
UID:2812
DTSTART:20210430T130000
DTEND:20210430T140000
LOCATION:Online
DESCRIPTION:1 PM\n\nRegister for this event online: https://upenn.zoom.us/meeting/register/tJ0uceuurzMsEtVspMs9EwQFzJVHpdLCVow9
ORGANIZER:SNF Paideia Program at the University of Pennsylvania
URL;VALUE=URI:https://snfpaideia.upenn.edu/events/reflections-the-year-of-civic-engagement/
TRANSP:OPAQUE
END:VEVENT
END:VCALENDAR
