BEGIN:VCALENDAR
TZID:America/New_York
VERSION:2.0
PRODID:-//SNF Paideia Program at the University of Pennsylvania //NONSGML Events //EN
CALSCALE:GREGORIAN
X-WR-CALNAME:SNF Paideia Program at the University of Pennsylvania
BEGIN:VEVENT
SUMMARY:Penn Walks 2 Wellness Summer 2021
CREATED:20210727T161105Z
UID:3067
DTSTART:20210803T120000
DTEND:20210803T140000
LOCATION:David Rittenhouse Lab
DESCRIPTION:12:00 PM
ORGANIZER:SNF Paideia Program at the University of Pennsylvania
URL;VALUE=URI:https://snfpaideia.upenn.edu/events/penn-walks-2-wellness-summer-2021/
TRANSP:OPAQUE
END:VEVENT
END:VCALENDAR
