BEGIN:VCALENDAR
TZID:America/New_York
VERSION:2.0
PRODID:-//SNF Paideia Program at the University of Pennsylvania //NONSGML Events //EN
CALSCALE:GREGORIAN
X-WR-CALNAME:SNF Paideia Program at the University of Pennsylvania
BEGIN:VEVENT
SUMMARY:Positionality and Discourse – How Where We’re From Affects How We Dialogue (and What to Do About It)
CREATED:20211001T151116Z
UID:3288
DTSTART:20211108T180000
DTEND:20211108T200000
LOCATION:Online
DESCRIPTION:\n\nRegister for this event online: https://bit.ly/positionalitydiscourse
ORGANIZER:SNF Paideia Program at the University of Pennsylvania
URL;VALUE=URI:https://snfpaideia.upenn.edu/events/positionality-and-discourse-how-where-were-from-affects-how-we-dialogue-and-what-to-do-about-it/
TRANSP:OPAQUE
END:VEVENT
END:VCALENDAR
