BEGIN:VCALENDAR
TZID:America/New_York
VERSION:2.0
PRODID:-//SNF Paideia Program at the University of Pennsylvania //NONSGML Events //EN
CALSCALE:GREGORIAN
X-WR-CALNAME:SNF Paideia Program at the University of Pennsylvania
BEGIN:VEVENT
SUMMARY:Other Ways of Knowing: The Future of Knowledge and the Superhumanities
CREATED:20211006T134424Z
UID:3324
DTSTART:20211103T173000
DTEND:20211103T190000
LOCATION:Online
DESCRIPTION:\n\nRegister for this event online: https://bit.ly/JeffreyKripal
ORGANIZER:SNF Paideia Program at the University of Pennsylvania
URL;VALUE=URI:https://snfpaideia.upenn.edu/events/other-ways-of-knowing-the-future-of-knowledge-and-the-superhumanities/
TRANSP:OPAQUE
END:VEVENT
END:VCALENDAR
