BEGIN:VCALENDAR
TZID:America/New_York
VERSION:2.0
PRODID:-//SNF Paideia Program at the University of Pennsylvania //NONSGML Events //EN
CALSCALE:GREGORIAN
X-WR-CALNAME:SNF Paideia Program at the University of Pennsylvania
BEGIN:VEVENT
SUMMARY:Exploring the Architecture of Listening
CREATED:20211021T143737Z
UID:3379
DTSTART:20211112T133000
DTEND:20211112T163000
LOCATION:Morgan Building\, Physical Lab
DESCRIPTION:\n\nRegister for this event online: https://bit.ly/ExploringArchListening
ORGANIZER:SNF Paideia Program at the University of Pennsylvania
URL;VALUE=URI:https://snfpaideia.upenn.edu/events/exploring-the-architecture-of-listening/
TRANSP:OPAQUE
END:VEVENT
END:VCALENDAR
