BEGIN:VCALENDAR
TZID:America/New_York
VERSION:2.0
PRODID:-//SNF Paideia Program at the University of Pennsylvania //NONSGML Events //EN
CALSCALE:GREGORIAN
X-WR-CALNAME:SNF Paideia Program at the University of Pennsylvania
BEGIN:VEVENT
SUMMARY:Biology and Public Interest
CREATED:20211118T140224Z
UID:3520
DTSTART:20211203T150000
DTEND:20211203T160000
LOCATION:Online
DESCRIPTION:\n\nRegister for this event online: https://docs.google.com/forms/d/e/1FAIpQLSeYjdenwHYYLFpVuihWgOWhQeETMK3wM6RwCp6R0Kq2zPeHeQ/viewform
ORGANIZER:SNF Paideia Program at the University of Pennsylvania
URL;VALUE=URI:https://snfpaideia.upenn.edu/events/biology-and-public-interest/
TRANSP:OPAQUE
END:VEVENT
END:VCALENDAR
