BEGIN:VCALENDAR
TZID:America/New_York
VERSION:2.0
PRODID:-//SNF Paideia Program at the University of Pennsylvania //NONSGML Events //EN
CALSCALE:GREGORIAN
X-WR-CALNAME:SNF Paideia Program at the University of Pennsylvania
BEGIN:VEVENT
SUMMARY:SNF Paideia Fellows Meet and Greet
CREATED:20220107T195156Z
UID:3607
DTSTART:20220121T150000
DTEND:20220121T160000
LOCATION:Zoom
DESCRIPTION:\n\nRegister for this event online: https://www.eventbrite.com/e/snf-paideia-fellows-meet-and-greet-tickets-241354105627
ORGANIZER:SNF Paideia Program at the University of Pennsylvania
URL;VALUE=URI:https://snfpaideia.upenn.edu/events/snf-paideia-fellows-meet-and-greet/
TRANSP:OPAQUE
END:VEVENT
END:VCALENDAR
