BEGIN:VCALENDAR
TZID:America/New_York
VERSION:2.0
PRODID:-//SNF Paideia Program at the University of Pennsylvania //NONSGML Events //EN
CALSCALE:GREGORIAN
X-WR-CALNAME:SNF Paideia Program at the University of Pennsylvania
BEGIN:VEVENT
SUMMARY:Race and Education with Paige Joki, Esq.
CREATED:20220218T141231Z
UID:3715
DTSTART:20220324T120000
DTEND:20220324T130000
LOCATION:Online
DESCRIPTION:\n\nRegister for this event online: https://upenn.zoom.us/meeting/register/tJwpd-2orz4sHdauOUzh8aX4vl1UigUe66Hx
ORGANIZER:SNF Paideia Program at the University of Pennsylvania
URL;VALUE=URI:https://snfpaideia.upenn.edu/events/race-and-education-with-paige-joki-esq/
TRANSP:OPAQUE
END:VEVENT
END:VCALENDAR
