BEGIN:VCALENDAR
TZID:America/New_York
VERSION:2.0
PRODID:-//SNF Paideia Program at the University of Pennsylvania //NONSGML Events //EN
CALSCALE:GREGORIAN
X-WR-CALNAME:SNF Paideia Program at the University of Pennsylvania
BEGIN:VEVENT
SUMMARY:Race and Crime, with Jessie Harper
CREATED:20220218T150215Z
UID:3719
DTSTART:20220419T120000
DTEND:20220419T130000
LOCATION:Online
DESCRIPTION:\n\nRegister for this event online: https://upenn.zoom.us/meeting/register/tJUpcO6uqT8iHtOe3hFyb5DocbjaJzqd4fCC
ORGANIZER:SNF Paideia Program at the University of Pennsylvania
URL;VALUE=URI:https://snfpaideia.upenn.edu/events/race-and-crime-with-jessie-harper/
TRANSP:OPAQUE
END:VEVENT
END:VCALENDAR
