BEGIN:VCALENDAR
TZID:America/New_York
VERSION:2.0
PRODID:-//SNF Paideia Program at the University of Pennsylvania //NONSGML Events //EN
CALSCALE:GREGORIAN
X-WR-CALNAME:SNF Paideia Program at the University of Pennsylvania
BEGIN:VEVENT
SUMMARY:Why All the Pain? A Conversation on the Meaning of Suffering
CREATED:20220329T201044Z
UID:3814
DTSTART:20220411T200000
DTEND:20220411T210000
LOCATION:Penn Newman Center
DESCRIPTION:
ORGANIZER:SNF Paideia Program at the University of Pennsylvania
URL;VALUE=URI:https://snfpaideia.upenn.edu/events/why-all-the-pain-a-conversation-on-the-meaning-of-suffering/
TRANSP:OPAQUE
END:VEVENT
END:VCALENDAR
