BEGIN:VCALENDAR
TZID:America/New_York
VERSION:2.0
PRODID:-//SNF Paideia Program at the University of Pennsylvania //NONSGML Events //EN
CALSCALE:GREGORIAN
X-WR-CALNAME:SNF Paideia Program at the University of Pennsylvania
BEGIN:VEVENT
SUMMARY:Examining Police Reform in the Era of Social Media and Black Lives Matter
CREATED:20221020T201403Z
UID:4353
DTSTART:20221130T134500
DTEND:20221130T151500
LOCATION:Annenberg School for Communication\, Room 500
DESCRIPTION:\n\nRegister for this event online: https://www.eventbrite.com/e/examining-police-reform-in-the-era-of-social-media-and-black-lives-matter-tickets-446013547527
ORGANIZER:SNF Paideia Program at the University of Pennsylvania
URL;VALUE=URI:https://snfpaideia.upenn.edu/events/examining-police-reform-in-the-era-of-social-media-and-black-lives-matter/
TRANSP:OPAQUE
END:VEVENT
END:VCALENDAR
