BEGIN:VCALENDAR
TZID:America/New_York
VERSION:2.0
PRODID:-//SNF Paideia Program at the University of Pennsylvania //NONSGML Events //EN
CALSCALE:GREGORIAN
X-WR-CALNAME:SNF Paideia Program at the University of Pennsylvania
BEGIN:VEVENT
SUMMARY:Getting Ready for Classroom Discussions
CREATED:20230109T184909Z
UID:4870
DTSTART:20230113T120000
DTEND:20230113T133000
LOCATION:Global Policy Lab\, Perry World House
DESCRIPTION:\n\nRegister for this event online: https://bit.ly/3vI5xk3
ORGANIZER:SNF Paideia Program at the University of Pennsylvania
URL;VALUE=URI:https://snfpaideia.upenn.edu/events/getting-ready-for-classroom-discussions/
TRANSP:OPAQUE
END:VEVENT
END:VCALENDAR
