BEGIN:VCALENDAR
TZID:America/New_York
VERSION:2.0
PRODID:-//SNF Paideia Program at the University of Pennsylvania //NONSGML Events //EN
CALSCALE:GREGORIAN
X-WR-CALNAME:SNF Paideia Program at the University of Pennsylvania
BEGIN:VEVENT
SUMMARY:Politics Unequal: The State of Women in Elected Office
CREATED:20230124T204220Z
UID:4906
DTSTART:20230222T173000
DTEND:20230222T190000
LOCATION:Zoom
DESCRIPTION:\n\nRegister for this event online: https://bit.ly/politics-unequal
ORGANIZER:SNF Paideia Program at the University of Pennsylvania
URL;VALUE=URI:https://snfpaideia.upenn.edu/events/politics-unequal-the-state-of-women-in-elected-office/
TRANSP:OPAQUE
END:VEVENT
END:VCALENDAR
