BEGIN:VCALENDAR
TZID:America/New_York
VERSION:2.0
PRODID:-//SNF Paideia Program at the University of Pennsylvania //NONSGML Events //EN
CALSCALE:GREGORIAN
X-WR-CALNAME:SNF Paideia Program at the University of Pennsylvania
BEGIN:VEVENT
SUMMARY:Asian America Across the Disciplines with Dalmacio Dennis Flores
CREATED:20230201T170125Z
UID:4943
DTSTART:20230410T120000
DTEND:20230410T130000
LOCATION:Zoom
DESCRIPTION:\n\nRegister for this event online: https://upenn.zoom.us/meeting/register/tJModOGopz8jG9MgiWK76QbxQKgKi6zdB2d5
ORGANIZER:SNF Paideia Program at the University of Pennsylvania
URL;VALUE=URI:https://snfpaideia.upenn.edu/events/asian-america-across-the-disciplines-with-dalmacio-dennis-flores/
TRANSP:OPAQUE
END:VEVENT
END:VCALENDAR
