BEGIN:VCALENDAR
TZID:America/New_York
VERSION:2.0
PRODID:-//SNF Paideia Program at the University of Pennsylvania //NONSGML Events //EN
CALSCALE:GREGORIAN
X-WR-CALNAME:SNF Paideia Program at the University of Pennsylvania
BEGIN:VEVENT
SUMMARY:Health Equity Forum Keynote Seminar by Dr. Ala Stanford
CREATED:20230420T122217Z
UID:5232
DTSTART:20230425T163000
DTEND:20230425T000000
LOCATION:Levin Auditorium
DESCRIPTION:\n\nRegister for this event online: https://docs.google.com/forms/d/e/1FAIpQLScQShEF-WwR9f7c7AaCKfo913ofU8v1jOEN4UzxgOlsswMpAg/viewform
ORGANIZER:SNF Paideia Program at the University of Pennsylvania
URL;VALUE=URI:https://snfpaideia.upenn.edu/events/health-equity-forum-keynote-seminar-by-dr-ala-stanford/
TRANSP:OPAQUE
END:VEVENT
END:VCALENDAR
