BEGIN:VCALENDAR
TZID:America/New_York
VERSION:2.0
PRODID:-//SNF Paideia Program at the University of Pennsylvania //NONSGML Events //EN
CALSCALE:GREGORIAN
X-WR-CALNAME:SNF Paideia Program at the University of Pennsylvania
BEGIN:VEVENT
SUMMARY:Martyrdom and the Coptic Church
CREATED:20230728T135319Z
UID:5499
DTSTART:20231010T134500
DTEND:20231010T164500
LOCATION:Kislak Center\, 625
DESCRIPTION:
ORGANIZER:SNF Paideia Program at the University of Pennsylvania
URL;VALUE=URI:https://snfpaideia.upenn.edu/events/martyrdom-and-the-coptic-church/
TRANSP:OPAQUE
END:VEVENT
END:VCALENDAR
