BEGIN:VCALENDAR
TZID:America/New_York
VERSION:2.0
PRODID:-//SNF Paideia Program at the University of Pennsylvania //NONSGML Events //EN
CALSCALE:GREGORIAN
X-WR-CALNAME:SNF Paideia Program at the University of Pennsylvania
BEGIN:VEVENT
SUMMARY:Gender and Orthodoxy
CREATED:20230728T143000Z
UID:5501
DTSTART:20231024T134500
DTEND:20231024T164500
LOCATION:Kislak Center\, 625
DESCRIPTION:
ORGANIZER:SNF Paideia Program at the University of Pennsylvania
URL;VALUE=URI:https://snfpaideia.upenn.edu/events/gender-and-orthodoxy/
TRANSP:OPAQUE
END:VEVENT
END:VCALENDAR
