BEGIN:VCALENDAR
TZID:America/New_York
VERSION:2.0
PRODID:-//SNF Paideia Program at the University of Pennsylvania //NONSGML Events //EN
CALSCALE:GREGORIAN
X-WR-CALNAME:SNF Paideia Program at the University of Pennsylvania
BEGIN:VEVENT
SUMMARY:Capstone Event
CREATED:20240221T161145Z
UID:6273
DTSTART:20240502T150000
DTEND:20240502T160000
LOCATION:Van Pelt-Dietrich Library Center\, Class of 1978 Orrery Pavilion\, 6th Fl (3420 Walnut St.)
DESCRIPTION:
ORGANIZER:SNF Paideia Program at the University of Pennsylvania
URL;VALUE=URI:https://snfpaideia.upenn.edu/events/capstone-dialogue-symposium/
TRANSP:OPAQUE
END:VEVENT
END:VCALENDAR
