BEGIN:VCALENDAR
TZID:America/New_York
VERSION:2.0
PRODID:-//SNF Paideia Program at the University of Pennsylvania //NONSGML Events //EN
CALSCALE:GREGORIAN
X-WR-CALNAME:SNF Paideia Program at the University of Pennsylvania
BEGIN:VEVENT
SUMMARY:Summoning Our Collective Power: A Reading and Conversation with Felicia Rose Chavez
CREATED:20240822T031237Z
UID:6913
DTSTART:20240911T153000
DTEND:20240911T163000
LOCATION:Lauder College House\, Media Room 111\, 3335 Woodland Walk\, Philadelphia
DESCRIPTION:\n\nRegister for this event online: https://www.eventbrite.com/e/summoning-our-collective-power-a-reading-and-conversation-with-dr-chavez-tickets-1000276432737
ORGANIZER:SNF Paideia Program at the University of Pennsylvania
URL;VALUE=URI:https://snfpaideia.upenn.edu/events/the-anti-racist-writing-workshop-how-to-decolonize-the-creative-classroom-with-felicia-rose-chavez-2/
TRANSP:OPAQUE
END:VEVENT
END:VCALENDAR
