BEGIN:VCALENDAR
TZID:America/New_York
VERSION:2.0
PRODID:-//SNF Paideia Program at the University of Pennsylvania //NONSGML Events //EN
CALSCALE:GREGORIAN
X-WR-CALNAME:SNF Paideia Program at the University of Pennsylvania
BEGIN:VEVENT
SUMMARY:Election Series: How to Talk About Politics Even When You Disagree
CREATED:20240827T175204Z
UID:6926
DTSTART:20240923T120000
DTEND:20240923T133000
LOCATION:Kislak Center Class of 1978 Orrery Pavilion\, 6th Floor\, Van Pelt-Dietrich Library
DESCRIPTION:\n\nRegister for this event online: https://www.eventbrite.com/e/election-series-event-a-conversation-with-matthew-levendusky-tickets-1003201281037
ORGANIZER:SNF Paideia Program at the University of Pennsylvania
URL;VALUE=URI:https://snfpaideia.upenn.edu/events/election-series-event-a-conversation-with-matthew-levendusky/
TRANSP:OPAQUE
END:VEVENT
END:VCALENDAR
