BEGIN:VCALENDAR
TZID:America/New_York
VERSION:2.0
PRODID:-//SNF Paideia Program at the University of Pennsylvania //NONSGML Events //EN
CALSCALE:GREGORIAN
X-WR-CALNAME:SNF Paideia Program at the University of Pennsylvania
BEGIN:VEVENT
SUMMARY:Fire PIT Chat with Billy Easley, Senior Public Policy Lead, Reddit
CREATED:20240913T144716Z
UID:7089
DTSTART:20241003T180000
DTEND:20241003T193000
LOCATION:Virtual
DESCRIPTION:\n\nRegister for this event online: https://docs.google.com/forms/d/e/1FAIpQLSeSQnanZ8r_bQCtcESydqUo5x3SFAF38V-aGWpVnH1eZLSoxQ/viewform
ORGANIZER:SNF Paideia Program at the University of Pennsylvania
URL;VALUE=URI:https://snfpaideia.upenn.edu/events/fire-pit-chat-billy-easley-senior-public-policy-lead-reddit/
TRANSP:OPAQUE
END:VEVENT
END:VCALENDAR
