BEGIN:VCALENDAR
TZID:America/New_York
VERSION:2.0
PRODID:-//SNF Paideia Program at the University of Pennsylvania //NONSGML Events //EN
CALSCALE:GREGORIAN
X-WR-CALNAME:SNF Paideia Program at the University of Pennsylvania
BEGIN:VEVENT
SUMMARY:Election Series: The State of the Campaign—A Roundtable of Top Political Journalists Weigh In on the Election
CREATED:20240916T163735Z
UID:7107
DTSTART:20241018T150000
DTEND:20241018T163000
LOCATION:Ronald O. Perelman Center for Political Science and Economics (PCPSE)\, Auditorium\, 133 S. 36th St and via Zoom
DESCRIPTION:\n\nRegister for this event online: https://www.eventbrite.com/e/the-state-of-the-campaign-tickets-1020628095107
ORGANIZER:SNF Paideia Program at the University of Pennsylvania
URL;VALUE=URI:https://snfpaideia.upenn.edu/events/election-series-the-state-of-the-campaign-a-roundtable-of-top-political-journalists-weigh-in-on-the-election/
TRANSP:OPAQUE
END:VEVENT
END:VCALENDAR
