BEGIN:VCALENDAR
TZID:America/New_York
VERSION:2.0
PRODID:-//SNF Paideia Program at the University of Pennsylvania //NONSGML Events //EN
CALSCALE:GREGORIAN
X-WR-CALNAME:SNF Paideia Program at the University of Pennsylvania
BEGIN:VEVENT
SUMMARY:Election Roundtable: A Look at the 2024 Presidential Election
CREATED:20241022T211135Z
UID:7301
DTSTART:20241114T120000
DTEND:20241114T133000
LOCATION:Café 58\, Irvine Auditorium\, 3401 Spruce Street
DESCRIPTION:
ORGANIZER:SNF Paideia Program at the University of Pennsylvania
URL;VALUE=URI:https://snfpaideia.upenn.edu/events/election-roundtable-a-look-at-the-2024-presidential-election/
TRANSP:OPAQUE
END:VEVENT
END:VCALENDAR
