BEGIN:VCALENDAR
TZID:America/New_York
VERSION:2.0
PRODID:-//SNF Paideia Program at the University of Pennsylvania //NONSGML Events //EN
CALSCALE:GREGORIAN
X-WR-CALNAME:SNF Paideia Program at the University of Pennsylvania
BEGIN:VEVENT
SUMMARY:Time Together: Post-Election Emotional Processing
CREATED:20241028T010055Z
UID:7336
DTSTART:20241108T130000
DTEND:20241108T150000
LOCATION:Penn LGBT Center\, Goodhand Room\, 3907 Spruce Street\, Philadelphia
DESCRIPTION:
ORGANIZER:SNF Paideia Program at the University of Pennsylvania
URL;VALUE=URI:https://snfpaideia.upenn.edu/events/time-together/
TRANSP:OPAQUE
END:VEVENT
END:VCALENDAR
