BEGIN:VCALENDAR
TZID:America/New_York
VERSION:2.0
PRODID:-//SNF Paideia Program at the University of Pennsylvania //NONSGML Events //EN
CALSCALE:GREGORIAN
X-WR-CALNAME:SNF Paideia Program at the University of Pennsylvania
BEGIN:VEVENT
SUMMARY:Fire PIT Chat with Yo Shavit, Frontier AI Safety Policy Lead, OpenAI
CREATED:20241028T020413Z
UID:7341
DTSTART:20241115T130000
DTEND:20241115T140000
LOCATION:Virtual
DESCRIPTION:\n\nRegister for this event online: https://docs.google.com/forms/d/e/1FAIpQLSeSQnanZ8r_bQCtcESydqUo5x3SFAF38V-aGWpVnH1eZLSoxQ/viewform
ORGANIZER:SNF Paideia Program at the University of Pennsylvania
URL;VALUE=URI:https://snfpaideia.upenn.edu/events/fire-pit-chat-with-yo-shavit-frontier-ai-safety-policy-lead-openai/
TRANSP:OPAQUE
END:VEVENT
END:VCALENDAR
