BEGIN:VCALENDAR
TZID:America/New_York
VERSION:2.0
PRODID:-//SNF Paideia Program at the University of Pennsylvania //NONSGML Events //EN
CALSCALE:GREGORIAN
X-WR-CALNAME:SNF Paideia Program at the University of Pennsylvania
BEGIN:VEVENT
SUMMARY:The Executive Abroad: Presidential Power and the U.S. Role in the World
CREATED:20250311T174038Z
UID:7727
DTSTART:20250319T180000
DTEND:20250319T190000
LOCATION:Virtual
DESCRIPTION:\n\nRegister for this event online: https://hopkinsathome.jhu.edu/watch-now
ORGANIZER:SNF Paideia Program at the University of Pennsylvania
URL;VALUE=URI:https://snfpaideia.upenn.edu/events/the-executive-abroad-presidential-power-and-the-u-s-role-in-the-world/
TRANSP:OPAQUE
END:VEVENT
END:VCALENDAR
