BEGIN:VCALENDAR
TZID:America/New_York
VERSION:2.0
PRODID:-//SNF Paideia Program at the University of Pennsylvania //NONSGML Events //EN
CALSCALE:GREGORIAN
X-WR-CALNAME:SNF Paideia Program at the University of Pennsylvania
BEGIN:VEVENT
SUMMARY:Connection and Liberation through Psychedelics: Ayahuasca Ceremonies with Israelis and Palestinians – A unique peacebuilding approach (A Two-Part Lecture)
CREATED:20250315T215912Z
UID:7735
DTSTART:20250326T171500
DTEND:20250326T201500
LOCATION:McNeil Bldg. #150\, 3718 Locust Walk\, Philadelphia
DESCRIPTION:\n\nRegister for this event online: https://www.eventbrite.com/e/connection-and-liberation-through-psychedelics-tickets-1279918654149?aff=oddtdtcreator
ORGANIZER:SNF Paideia Program at the University of Pennsylvania
URL;VALUE=URI:https://snfpaideia.upenn.edu/events/connection-and-liberation-through-psychedelics-ayahuasca-ceremonies-with-israelis-and-palestinians-a-unique-peacebuilding-approach-a-two-part-lecture/
TRANSP:OPAQUE
END:VEVENT
END:VCALENDAR
