BEGIN:VCALENDAR
TZID:America/New_York
VERSION:2.0
PRODID:-//SNF Paideia Program at the University of Pennsylvania //NONSGML Events //EN
CALSCALE:GREGORIAN
X-WR-CALNAME:SNF Paideia Program at the University of Pennsylvania
BEGIN:VEVENT
SUMMARY:SNF Paideia Capstone Dialogues
CREATED:20250417T162006Z
UID:7916
DTSTART:20250502T100000
DTEND:20250502T160000
LOCATION:Van Pelt-Dietrich Library Center\, Class of 1978 Orrery Pavilion\, 6th Fl\,<br />
3420 Walnut Street\, Philadelphia <br />

DESCRIPTION:\n\nRegister for this event online: https://snfpaideia.upenn.edu/engage/events/
ORGANIZER:SNF Paideia Program at the University of Pennsylvania
URL;VALUE=URI:https://snfpaideia.upenn.edu/events/snf-paideia-capstone-dialogues/
TRANSP:OPAQUE
END:VEVENT
END:VCALENDAR
