BEGIN:VCALENDAR
TZID:America/New_York
VERSION:2.0
PRODID:-//SNF Paideia Program at the University of Pennsylvania //NONSGML Events //EN
CALSCALE:GREGORIAN
X-WR-CALNAME:SNF Paideia Program at the University of Pennsylvania
BEGIN:VEVENT
SUMMARY:Listening Well After the 2020 Election: How Do We Connect Across Political Difference?
CREATED:20200815T194423Z
UID:794
DTSTART:20201116T150000
DTEND:20201116T161400
LOCATION:Zoom
DESCRIPTION:3:00 PM–4:15 PM\n\nRegister for this event online: https://www.eventbrite.com/e/116661221855
ORGANIZER:SNF Paideia Program at the University of Pennsylvania
URL;VALUE=URI:https://snfpaideia.upenn.edu/events/listening-well-during-the-2020-election-november-16-2020/
TRANSP:OPAQUE
END:VEVENT
END:VCALENDAR
