BEGIN:VCALENDAR
TZID:America/New_York
VERSION:2.0
PRODID:-//SNF Paideia Program at the University of Pennsylvania //NONSGML Events //EN
CALSCALE:GREGORIAN
X-WR-CALNAME:SNF Paideia Program at the University of Pennsylvania
BEGIN:VEVENT
SUMMARY:Virtual Contemplative Social Justice Art Tour of Penn’s Outdoor Sculptures
CREATED:20200815T200605Z
UID:797
DTSTART:20201001T150000
DTEND:20201001T160000
LOCATION:Zoom
DESCRIPTION:3:00 PM–4:00 PM\n\nRegister for this event online: https://www.eventbrite.com/e/116246752165
ORGANIZER:SNF Paideia Program at the University of Pennsylvania
URL;VALUE=URI:https://snfpaideia.upenn.edu/events/virtual-contemplative-social-justice-art-tour-of-penns-outdoor-sculptures/
TRANSP:OPAQUE
END:VEVENT
END:VCALENDAR
