BEGIN:VCALENDAR
TZID:America/New_York
VERSION:2.0
PRODID:-//SNF Paideia Program at the University of Pennsylvania //NONSGML Events //EN
CALSCALE:GREGORIAN
X-WR-CALNAME:SNF Paideia Program at the University of Pennsylvania
BEGIN:VEVENT
SUMMARY:Sharing Money Stories: Connection and Compassion across Class Lines
CREATED:20250816T022146Z
UID:8263
DTSTART:20251030T180000
DTEND:20251030T193000
LOCATION:The Spiritual & Religious Life Center (SPARC)\, 118 S 37th St\, Philadelphia
DESCRIPTION:\n\nRegister for this event online: https://www.eventbrite.com/e/1596555393159?aff=oddtdtcreator
ORGANIZER:SNF Paideia Program at the University of Pennsylvania
URL;VALUE=URI:https://snfpaideia.upenn.edu/events/sharing-money-stories-connection-and-compassion-across-class-lines/
TRANSP:OPAQUE
END:VEVENT
END:VCALENDAR
