BEGIN:VCALENDAR
TZID:America/New_York
VERSION:2.0
PRODID:-//SNF Paideia Program at the University of Pennsylvania //NONSGML Events //EN
CALSCALE:GREGORIAN
X-WR-CALNAME:SNF Paideia Program at the University of Pennsylvania
BEGIN:VEVENT
SUMMARY:*This event has been canceled*- Class at Penn and Beyond: Wealth Norms in College and the Transformative Potential of Education
CREATED:20250816T021950Z
UID:8264
DTSTART:20251202T173000
DTEND:20251202T190000
LOCATION:The ARCH\, Room 108
DESCRIPTION:\n\nRegister for this event online: https://www.eventbrite.com/e/1596799322759?aff=oddtdtcreator
ORGANIZER:SNF Paideia Program at the University of Pennsylvania
URL;VALUE=URI:https://snfpaideia.upenn.edu/events/class-at-penn-and-beyond-wealth-norms-in-college-and-the-transformative-potential-of-education/
TRANSP:OPAQUE
END:VEVENT
END:VCALENDAR
