BEGIN:VCALENDAR
TZID:America/New_York
VERSION:2.0
PRODID:-//SNF Paideia Program at the University of Pennsylvania //NONSGML Events //EN
CALSCALE:GREGORIAN
X-WR-CALNAME:SNF Paideia Program at the University of Pennsylvania
BEGIN:VEVENT
SUMMARY:Elijah E. Cummings Democracy and Freedom Festival
CREATED:20250930T202233Z
UID:8942
DTSTART:20251015T140000
DTEND:20251015T170000
LOCATION:Johns Hopkins University\, Homewood Campus
DESCRIPTION:\n\nRegister for this event online: https://whova.com/web/-SZIIpiMbedR-1qNl4rQ8iv2-vY50mMUJqd8Z5dN50s=/
ORGANIZER:SNF Paideia Program at the University of Pennsylvania
URL;VALUE=URI:https://snfpaideia.upenn.edu/events/elijah-e-cummings-democracy-and-freedom-festival/
TRANSP:OPAQUE
END:VEVENT
END:VCALENDAR
