BEGIN:VCALENDAR
TZID:America/New_York
VERSION:2.0
PRODID:-//SNF Paideia Program at the University of Pennsylvania //NONSGML Events //EN
CALSCALE:GREGORIAN
X-WR-CALNAME:SNF Paideia Program at the University of Pennsylvania
BEGIN:VEVENT
SUMMARY:Listening Across Difference: Building Your Empathy Toolkit
CREATED:20251103T220050Z
UID:9232
DTSTART:20251113T130000
DTEND:20251113T140000
LOCATION:The ARCH\, Room 108
DESCRIPTION:\n\nRegister for this event online: https://upenn.co1.qualtrics.com/jfe/form/SV_cTrolk5uoJoS2GO?Q_CHL=qr
ORGANIZER:SNF Paideia Program at the University of Pennsylvania
URL;VALUE=URI:https://snfpaideia.upenn.edu/events/listening-across-difference-building-your-empathy-toolkit/
TRANSP:OPAQUE
END:VEVENT
END:VCALENDAR
