BEGIN:VCALENDAR
TZID:America/New_York
VERSION:2.0
PRODID:-//SNF Paideia Program at the University of Pennsylvania //NONSGML Events //EN
CALSCALE:GREGORIAN
X-WR-CALNAME:SNF Paideia Program at the University of Pennsylvania
BEGIN:VEVENT
SUMMARY:Constitutional Conversations
CREATED:20251215T214902Z
UID:9308
DTSTART:20260210T163000
DTEND:20260210T180000
LOCATION:Class of 1978 Orrery Pavilion\, Van Pelt-Dietrich Library Center\, 6th Floor\, 3420 Walnut Street
DESCRIPTION:\n\nRegister for this event online: https://www.eventbrite.com/e/1977982444738?aff=oddtdtcreator
ORGANIZER:SNF Paideia Program at the University of Pennsylvania
URL;VALUE=URI:https://snfpaideia.upenn.edu/events/constitutional-conversations/
TRANSP:OPAQUE
END:VEVENT
END:VCALENDAR
