BEGIN:VCALENDAR
TZID:America/New_York
VERSION:2.0
PRODID:-//SNF Paideia Program at the University of Pennsylvania //NONSGML Events //EN
CALSCALE:GREGORIAN
X-WR-CALNAME:SNF Paideia Program at the University of Pennsylvania
BEGIN:VEVENT
SUMMARY:The 3 Degrees of Why: Moving Beyond Positions to the Stories That Shape Us with Peace Ike
CREATED:20260109T030701Z
UID:9372
DTSTART:20260410T113000
DTEND:20260410T130000
LOCATION:College Hall\, 205
DESCRIPTION:\n\nRegister for this event online: https://www.eventbrite.com/e/1982684251970?aff=oddtdtcreator
ORGANIZER:SNF Paideia Program at the University of Pennsylvania
URL;VALUE=URI:https://snfpaideia.upenn.edu/events/dialogue-x-wellness-2/
TRANSP:OPAQUE
END:VEVENT
END:VCALENDAR
