BEGIN:VCALENDAR
TZID:America/New_York
VERSION:2.0
PRODID:-//SNF Paideia Program at the University of Pennsylvania //NONSGML Events //EN
CALSCALE:GREGORIAN
X-WR-CALNAME:SNF Paideia Program at the University of Pennsylvania
BEGIN:VEVENT
SUMMARY:Asian America Across the Disciplines with Taylor Pacheco, Esq.
CREATED:20260129T043707Z
UID:9470
DTSTART:20260407T120000
DTEND:20260407T130000
LOCATION:Van Pelt Library\, Room 113\, Philadelphia\, PA 19104
DESCRIPTION:\n\nRegister for this event online: https://upenn.zoom.us/meeting/register/oVvc4lISSeC3vRrdjuEGsA#/registration
ORGANIZER:SNF Paideia Program at the University of Pennsylvania
URL;VALUE=URI:https://snfpaideia.upenn.edu/events/asian-america-across-the-disciplines-with-taylor-pacheco-esq/
TRANSP:OPAQUE
END:VEVENT
END:VCALENDAR
