BEGIN:VCALENDAR
TZID:America/New_York
VERSION:2.0
PRODID:-//SNF Paideia Program at the University of Pennsylvania //NONSGML Events //EN
CALSCALE:GREGORIAN
X-WR-CALNAME:SNF Paideia Program at the University of Pennsylvania
BEGIN:VEVENT
SUMMARY:America’s Divides: A Political Lunch Series with Bob Inglis
CREATED:20260223T022931Z
UID:9702
DTSTART:20260304T120000
DTEND:20260304T133000
LOCATION:1 College Hall\, Room 205\, 2nd floor
DESCRIPTION:\n\nRegister for this event online: https://www.eventbrite.com/e/americas-divides-a-political-lunch-series-with-bob-inglis-tickets-1983836094161?aff=oddtdtcreator
ORGANIZER:SNF Paideia Program at the University of Pennsylvania
URL;VALUE=URI:https://snfpaideia.upenn.edu/events/americas-divides-a-political-lunch-series-with-bob-inglis/
TRANSP:OPAQUE
END:VEVENT
END:VCALENDAR
